BEGIN:VCALENDAR
PRODID:-//eluceo/ical//2.0/EN
VERSION:2.0
CALSCALE:GREGORIAN
BEGIN:VEVENT
UID:df06523bf44a4cb5caf40144467c748f
DTSTAMP:20260421T172154Z
SUMMARY:35 Jahre AWO Seniorenzentrum Wachtelwinkel
DESCRIPTION:"Aus Erfahrung wächst Leidenschaft für die Zukunft."\nLasst u
 ns feiern!\nWir feiern am 06.05.2026 ab 14:30 Uhr\n \nAWO Seniorenzentrum
  Wachtelwinkel\nHamburger Ring 25\n14542 Werder (Havel)\nTel.: +493327/788
 201\nFax.: +493327/788201\nsz-wachtelwinkel@awo-potsdam.de
URL:https://awo-potsdam.de/de/veranstaltung/35-jahre-awo-seniorenzentrum-wa
 chtelwinkel/
DTSTART:20260506T143000
DTEND:20260506T180000
LOCATION:
END:VEVENT
BEGIN:VTIMEZONE
TZID:Europe/Berlin
BEGIN:DAYLIGHT
DTSTART:20260506T143000
TZNAME:CEST
TZOFFSETTO:+0200
TZOFFSETFROM:+0200
END:DAYLIGHT
END:VTIMEZONE
END:VCALENDAR
