BEGIN:VCALENDAR
PRODID:-//eluceo/ical//2.0/EN
VERSION:2.0
CALSCALE:GREGORIAN
BEGIN:VEVENT
UID:7955405e8ccda75af50ee2b24c729387
DTSTAMP:20260425T223405Z
SUMMARY:Adventsgestecke fertigen
DESCRIPTION:
URL:https://awo-potsdam.de/de/veranstaltung/adventsgestecke-fertigen-2/
DTSTART:20241129T100000
DTEND:20241129T100000
LOCATION:
END:VEVENT
BEGIN:VTIMEZONE
TZID:Europe/Berlin
BEGIN:STANDARD
DTSTART:20241129T100000
TZNAME:CET
TZOFFSETTO:+0100
TZOFFSETFROM:+0100
END:STANDARD
END:VTIMEZONE
END:VCALENDAR
