BEGIN:VCALENDAR
PRODID:-//eluceo/ical//2.0/EN
VERSION:2.0
CALSCALE:GREGORIAN
BEGIN:VEVENT
UID:55eed80e6ae4179ba414ae0fbbf151be
DTSTAMP:20260421T205643Z
SUMMARY:AWO-Winzer- und Oktoberfest
DESCRIPTION:Programm und weitere Details werden noch rechtzeitig bekanntgeg
 eben.
URL:https://awo-potsdam.de/de/veranstaltung/awo-oktoberfest/
DTSTART:20261015T000000
DTEND:20261015T235959
LOCATION:Kulturhaus "Johannes R. Becher"
END:VEVENT
BEGIN:VTIMEZONE
TZID:Europe/Berlin
BEGIN:DAYLIGHT
DTSTART:20261015T000000
TZNAME:CEST
TZOFFSETTO:+0200
TZOFFSETFROM:+0200
END:DAYLIGHT
END:VTIMEZONE
END:VCALENDAR
