BEGIN:VCALENDAR
PRODID:-//eluceo/ical//2.0/EN
VERSION:2.0
CALSCALE:GREGORIAN
BEGIN:VEVENT
UID:cae17c0009c1b9f99e68f4226225b805
DTSTAMP:20260425T223633Z
SUMMARY:Bewegungsraum für Tigerkinder im Familienzentrum im Trollberg
DESCRIPTION:Drüber\, drunter\, rauf und runter - Klettern und Bewegung mit
  Mama/Papa für Kinder bis 6 Jahren\, gerne mit Anmeldung
URL:https://awo-potsdam.de/de/veranstaltung/bewegungsraum-fuer-tigerkinder-
 im-familienzentrum-im-trollberg/
DTSTART:20250605T160000
DTEND:20250605T173000
LOCATION:Familienzentrum im TRollberg
END:VEVENT
BEGIN:VTIMEZONE
TZID:Europe/Berlin
BEGIN:DAYLIGHT
DTSTART:20250605T160000
TZNAME:CEST
TZOFFSETTO:+0200
TZOFFSETFROM:+0200
END:DAYLIGHT
END:VTIMEZONE
END:VCALENDAR
