BEGIN:VCALENDAR
PRODID:-//eluceo/ical//2.0/EN
VERSION:2.0
CALSCALE:GREGORIAN
BEGIN:VEVENT
UID:ae8bf289aff27c84a270807fbd882d6f
DTSTAMP:20260421T180458Z
SUMMARY:Bibliothek mit Mandy\, Inga und Heidi
DESCRIPTION:Bücher\, CDs und Filme für Groß und Klein.
URL:https://awo-potsdam.de/de/veranstaltung/bibliothek-mit-mandy-inga-und-h
 eidi-7/
DTSTART:20260601T143000
DTEND:20260601T170000
LOCATION:Familienzentrum Niemegk
END:VEVENT
BEGIN:VTIMEZONE
TZID:Europe/Berlin
BEGIN:DAYLIGHT
DTSTART:20260601T143000
TZNAME:CEST
TZOFFSETTO:+0200
TZOFFSETFROM:+0200
END:DAYLIGHT
END:VTIMEZONE
END:VCALENDAR
