BEGIN:VCALENDAR
PRODID:-//eluceo/ical//2.0/EN
VERSION:2.0
CALSCALE:GREGORIAN
BEGIN:VEVENT
UID:4e1df17f2c6e3cbbc2a3caa04d4b4b65
DTSTAMP:20260421T171932Z
SUMMARY:Der gesunde Darm - Infonachmittag
DESCRIPTION:Unser Darm beherbergt eine enorme Vielfalt an Mikroorganismen\,
  die eine große Rolle bei den internen Körperfunktionen spielt\, von der
  Aufnahme von Nährstoffen über die Immunfunktionen bis hin zu den Hirnfu
 nktionen! Da die Darmgesundheit im Mittelpunkt all dieser körperlichen Pr
 ozesse steht\, ist es sehr wichtig\, auf eine gute Darmgesundheit zu achte
 n.
URL:https://awo-potsdam.de/de/veranstaltung/der-gesunde-darm-infonachmittag
 -2/
DTSTART:20260422T140000
DTEND:20260422T140000
LOCATION:AWO Haus Teltow\, Potsdamer Straße 62\, 14513 Teltow
END:VEVENT
BEGIN:VTIMEZONE
TZID:Europe/Berlin
BEGIN:DAYLIGHT
DTSTART:20260422T140000
TZNAME:CEST
TZOFFSETTO:+0200
TZOFFSETFROM:+0200
END:DAYLIGHT
END:VTIMEZONE
END:VCALENDAR
