BEGIN:VCALENDAR
PRODID:-//eluceo/ical//2.0/EN
VERSION:2.0
CALSCALE:GREGORIAN
BEGIN:VEVENT
UID:bb7f49801ca33a6002bb95ef883a6680
DTSTAMP:20260424T113922Z
SUMMARY:Der Glanz der Unsichtbaren – Mut trifft Würde
DESCRIPTION:Was bedeutet Würde\, wenn Schutzräume verschwinden? Die AWO B
 ezirksverband Potsdam e.V. lädt zu einem besonderen Film- und Diskussions
 abend ein. „Der Glanz der Unsichtbaren“ erzählt mit Herz\, Humor und 
 großer Authentizität von wohnungslosen Frauen – viele von ihnen spiele
 n selbst mit – die wütend und würdevoll für ihren Ort der Solidaritä
 t kämpfen. Im Anschluss sprechen wir über die aktuelle Situation in Pots
 dam und Brandenburg und diskutieren\, welche Schritte jetzt nötig sind.\n
 Die Veranstaltung findet verknüpft die bundesweiten Aktionswochen gegen R
 assismus („100 % Menschenwürde“) und die Brandenburgischen Frauenwoch
 en („Wut trifft Feminismus“). Gefördert wird die Veranstaltung durch 
 die Landeshauptstadt Potsdam.\nDie Veranstaltung ist offen für alle Inter
 essierte.
URL:https://awo-potsdam.de/de/veranstaltung/der-glanz-der-unsichtbaren/
DTSTART:20260319T163000
DTEND:20260319T163000
LOCATION:Thalia - Das Programmkino
END:VEVENT
BEGIN:VTIMEZONE
TZID:Europe/Berlin
BEGIN:STANDARD
DTSTART:20260319T163000
TZNAME:CET
TZOFFSETTO:+0100
TZOFFSETFROM:+0100
END:STANDARD
END:VTIMEZONE
END:VCALENDAR
