BEGIN:VCALENDAR
PRODID:-//eluceo/ical//2.0/EN
VERSION:2.0
CALSCALE:GREGORIAN
BEGIN:VEVENT
UID:cd2b7b4225baf93d78743b8e7de3e284
DTSTAMP:20260426T011611Z
SUMMARY:Die Evergreens
DESCRIPTION:Wer mitsingen möchte\, ist gern gesehen.
URL:https://awo-potsdam.de/de/veranstaltung/die-evergreens-5/
DTSTART:20250825T133000
DTEND:20250825T133000
LOCATION:
END:VEVENT
BEGIN:VTIMEZONE
TZID:Europe/Berlin
BEGIN:DAYLIGHT
DTSTART:20250825T133000
TZNAME:CEST
TZOFFSETTO:+0200
TZOFFSETFROM:+0200
END:DAYLIGHT
END:VTIMEZONE
END:VCALENDAR
