BEGIN:VCALENDAR
PRODID:-//eluceo/ical//2.0/EN
VERSION:2.0
CALSCALE:GREGORIAN
BEGIN:VEVENT
UID:004305deab95f7afa45cf7de9ad4d67f
DTSTAMP:20260421T172026Z
SUMMARY:Die Evergreens -  Treffen der Chorgruppe
DESCRIPTION:Jeden Montag trifft sich unsere Chorgruppe zur Chorprobe. Es si
 ngen Männer und Frauen ab 65 Jahren.\nWer mitsingen möchte\, ist gern ge
 sehen.
URL:https://awo-potsdam.de/de/veranstaltung/die-evergreens-treffen-der-chor
 gruppe-16/
DTSTART:20260518T133000
DTEND:20260518T133000
LOCATION:AWO Haus Teltow\, Potsdamer Straße 62\, 14513 Teltow
END:VEVENT
BEGIN:VTIMEZONE
TZID:Europe/Berlin
BEGIN:DAYLIGHT
DTSTART:20260518T133000
TZNAME:CEST
TZOFFSETTO:+0200
TZOFFSETFROM:+0200
END:DAYLIGHT
END:VTIMEZONE
END:VCALENDAR
