BEGIN:VCALENDAR
PRODID:-//eluceo/ical//2.0/EN
VERSION:2.0
CALSCALE:GREGORIAN
BEGIN:VEVENT
UID:edd26a22486fb9f0549207a83fb5abe2
DTSTAMP:20260419T154228Z
SUMMARY:Eltern- Kind- Turnen mit Daniela
DESCRIPTION:Turnen mit Tolly Turnmaus. Für Kinder von 2 bis 6 Jahren in Be
 gleitung ihrer Eltern/ Großeltern.\nWir treffen uns in der Turnhalle in N
 iemegk.\nTeilnahmebeitrag: Freiwilliger Beitrag. Spendendose steht bereit.
URL:https://awo-potsdam.de/de/veranstaltung/eltern-kind-turnen-mit-daniela/
DTSTART:20260303T153000
DTEND:20260303T163000
LOCATION:Turnhalle Niemegk
END:VEVENT
BEGIN:VTIMEZONE
TZID:Europe/Berlin
BEGIN:STANDARD
DTSTART:20260303T153000
TZNAME:CET
TZOFFSETTO:+0100
TZOFFSETFROM:+0100
END:STANDARD
END:VTIMEZONE
END:VCALENDAR
