BEGIN:VCALENDAR
PRODID:-//eluceo/ical//2.0/EN
VERSION:2.0
CALSCALE:GREGORIAN
BEGIN:VEVENT
UID:62913f1cff67533beeef4219607a46df
DTSTAMP:20260424T100324Z
SUMMARY:Elternversammlung
DESCRIPTION:Liebe Eltern\,\nan diesem Tag finden gemeinsam mit dem entsprec
 henden Lerngruppenleiter die Elternversammlungen der Erdlichter und Feuerp
 hönixe statt.\nWir freuen uns auf den gemeinsamen informativen Elternaben
 d.\nMit freundlichen Grüßen\nEuer Herzberg-Team
URL:https://awo-potsdam.de/de/veranstaltung/elternversammlung-8/
DTSTART:20260901T153000
DTEND:20260901T173000
LOCATION:AWO Hort "Am Herzberg" mit Entdeckergruppe
END:VEVENT
BEGIN:VTIMEZONE
TZID:Europe/Berlin
BEGIN:DAYLIGHT
DTSTART:20260901T153000
TZNAME:CEST
TZOFFSETTO:+0200
TZOFFSETFROM:+0200
END:DAYLIGHT
END:VTIMEZONE
END:VCALENDAR
