BEGIN:VCALENDAR
PRODID:-//eluceo/ical//2.0/EN
VERSION:2.0
CALSCALE:GREGORIAN
BEGIN:VEVENT
UID:428bed53edc58ec1ded7ab8cc20d9937
DTSTAMP:20260425T125335Z
SUMMARY:endlich wieder Boule 2x monatlich ab Mai 2026
DESCRIPTION:Endlich geht es wieder los.\n2x im Monat wird ab Mai abermals B
 oule gespielt.\nJeden ersten und dritten Mittwoch im Monat ab\n17:00 Uhr -
  bitte denkt an eure Boule Kugeln\nbei Rückfragen meldet euch bei\nClaudi
 a und Wolfgang unter 0163/5075511
URL:https://awo-potsdam.de/de/veranstaltung/endlich-wieder-boule-2x-monatli
 ch-ab-mai-2026/
DTSTART:20260506T000000
DTEND:20260506T235959
LOCATION:
END:VEVENT
BEGIN:VTIMEZONE
TZID:Europe/Berlin
BEGIN:DAYLIGHT
DTSTART:20260506T000000
TZNAME:CEST
TZOFFSETTO:+0200
TZOFFSETFROM:+0200
END:DAYLIGHT
END:VTIMEZONE
END:VCALENDAR
