BEGIN:VCALENDAR
PRODID:-//eluceo/ical//2.0/EN
VERSION:2.0
CALSCALE:GREGORIAN
BEGIN:VEVENT
UID:6a2fb86f5f7236827cce8ffbfa6aeacf
DTSTAMP:20260425T222806Z
SUMMARY:Englisch für den Alltag
DESCRIPTION:Englisch lernen mit Peter! Ganz egal\, wie gut dein Englisch sc
 hon ist\, du bist herzlich und jederzeit willkommen!\n 
URL:https://awo-potsdam.de/de/veranstaltung/englisch-fuer-den-alltag-13/
DTSTART:20250508T140000
DTEND:20250508T160000
LOCATION:Café Integra
END:VEVENT
BEGIN:VTIMEZONE
TZID:Europe/Berlin
BEGIN:DAYLIGHT
DTSTART:20250508T140000
TZNAME:CEST
TZOFFSETTO:+0200
TZOFFSETFROM:+0200
END:DAYLIGHT
END:VTIMEZONE
END:VCALENDAR
