BEGIN:VCALENDAR
PRODID:-//eluceo/ical//2.0/EN
VERSION:2.0
CALSCALE:GREGORIAN
BEGIN:VEVENT
UID:9d330fcd5e01a7160e024fb9c38d7990
DTSTAMP:20260425T201921Z
SUMMARY:Englisch für den Alltag
DESCRIPTION:Englisch lernen mit Peter! Ganz egal\, wie gut dein Englisch sc
 hon ist\, du bist herzlich und jederzeit willkommen!\n 
URL:https://awo-potsdam.de/de/veranstaltung/englisch-fuer-den-alltag-22/
DTSTART:20260129T140000
DTEND:20260129T160000
LOCATION:Café Integra
END:VEVENT
BEGIN:VTIMEZONE
TZID:Europe/Berlin
BEGIN:STANDARD
DTSTART:20260129T140000
TZNAME:CET
TZOFFSETTO:+0100
TZOFFSETFROM:+0100
END:STANDARD
END:VTIMEZONE
END:VCALENDAR
