BEGIN:VCALENDAR
PRODID:-//eluceo/ical//2.0/EN
VERSION:2.0
CALSCALE:GREGORIAN
BEGIN:VEVENT
UID:c349643527d78a5b594f753d0df9a0d6
DTSTAMP:20260421T172358Z
SUMMARY:Englisch für den Alltag
DESCRIPTION:Englisch lernen mit Peter! Ganz egal\, wie gut dein Englisch sc
 hon ist\, du bist herzlich und jederzeit willkommen!\n 
URL:https://awo-potsdam.de/de/veranstaltung/englisch-fuer-den-alltag/
DTSTART:20260319T140000
DTEND:20260319T160000
LOCATION:Café Integra
END:VEVENT
BEGIN:VTIMEZONE
TZID:Europe/Berlin
BEGIN:STANDARD
DTSTART:20260319T140000
TZNAME:CET
TZOFFSETTO:+0100
TZOFFSETFROM:+0100
END:STANDARD
END:VTIMEZONE
END:VCALENDAR
