BEGIN:VCALENDAR
PRODID:-//eluceo/ical//2.0/EN
VERSION:2.0
CALSCALE:GREGORIAN
BEGIN:VEVENT
UID:f15c3ca323776a918ba61dd0bea4b1de
DTSTAMP:20260421T185011Z
SUMMARY:Englischkurs 1 + 2
DESCRIPTION:ein Angebot der Kreisvolkshochschule Kleinmachnow
URL:https://awo-potsdam.de/de/veranstaltung/englischkurs-1-2-23/
DTSTART:20260513T090000
DTEND:20260513T130000
LOCATION:
END:VEVENT
BEGIN:VTIMEZONE
TZID:Europe/Berlin
BEGIN:DAYLIGHT
DTSTART:20260513T090000
TZNAME:CEST
TZOFFSETTO:+0200
TZOFFSETFROM:+0200
END:DAYLIGHT
END:VTIMEZONE
END:VCALENDAR
