BEGIN:VCALENDAR
PRODID:-//eluceo/ical//2.0/EN
VERSION:2.0
CALSCALE:GREGORIAN
BEGIN:VEVENT
UID:bd09cb62d6b2408cd94ba546a9628d0e
DTSTAMP:20260419T134231Z
SUMMARY:Englischkurs 1 + 2
DESCRIPTION:
URL:https://awo-potsdam.de/de/veranstaltung/englischkurs-1-2-7/
DTSTART:20250925T090000
DTEND:20250925T130000
LOCATION:
END:VEVENT
BEGIN:VTIMEZONE
TZID:Europe/Berlin
BEGIN:DAYLIGHT
DTSTART:20250925T090000
TZNAME:CEST
TZOFFSETTO:+0200
TZOFFSETFROM:+0200
END:DAYLIGHT
END:VTIMEZONE
END:VCALENDAR
