BEGIN:VCALENDAR
PRODID:-//eluceo/ical//2.0/EN
VERSION:2.0
CALSCALE:GREGORIAN
BEGIN:VEVENT
UID:e592217f441628954fac2d578e695c7b
DTSTAMP:20260424T100000Z
SUMMARY:Entdeckungsraum mit Anita
DESCRIPTION:Baby- und Kleinkindgruppe (ab 3 Monate)\nBewegungslandschaften 
 und Spielanregungen für kleine Entdecker.\n 
URL:https://awo-potsdam.de/de/veranstaltung/entdeckungsraum-mit-anita-16/
DTSTART:20260520T093000
DTEND:20260520T110000
LOCATION:Familienzentrum Niemegk
END:VEVENT
BEGIN:VTIMEZONE
TZID:Europe/Berlin
BEGIN:DAYLIGHT
DTSTART:20260520T093000
TZNAME:CEST
TZOFFSETTO:+0200
TZOFFSETFROM:+0200
END:DAYLIGHT
END:VTIMEZONE
END:VCALENDAR
