BEGIN:VCALENDAR
PRODID:-//eluceo/ical//2.0/EN
VERSION:2.0
CALSCALE:GREGORIAN
BEGIN:VEVENT
UID:ff6a197cd3e2813218e02f85a4e6181e
DTSTAMP:20260420T224926Z
SUMMARY:Entdeckungsraum mit Anita
DESCRIPTION:Baby- und Kleinkindgruppe (ab 3 Monate)\nBewegungslandschaften 
 und Spielanregungen für kleine Entdecker.\n 
URL:https://awo-potsdam.de/de/veranstaltung/entdeckungsraum-mit-anita-17/
DTSTART:20260603T093000
DTEND:20260603T110000
LOCATION:Familienzentrum Niemegk
END:VEVENT
BEGIN:VTIMEZONE
TZID:Europe/Berlin
BEGIN:DAYLIGHT
DTSTART:20260603T093000
TZNAME:CEST
TZOFFSETTO:+0200
TZOFFSETFROM:+0200
END:DAYLIGHT
END:VTIMEZONE
END:VCALENDAR
