BEGIN:VCALENDAR
PRODID:-//eluceo/ical//2.0/EN
VERSION:2.0
CALSCALE:GREGORIAN
BEGIN:VEVENT
UID:3dd08adfec94e9a2ff8c04a88f93b314
DTSTAMP:20260421T003242Z
SUMMARY:Entdeckungsraum mit Anita
DESCRIPTION:Baby- und Kleinkindgruppe (ab 3 Monate)\nBewegungslandschaften 
 und Spielanregungen für kleine Entdecker.\n 
URL:https://awo-potsdam.de/de/veranstaltung/entdeckungsraum-mit-anita-5/
DTSTART:20260506T093000
DTEND:20260506T110000
LOCATION:Familienzentrum Niemegk
END:VEVENT
BEGIN:VTIMEZONE
TZID:Europe/Berlin
BEGIN:DAYLIGHT
DTSTART:20260506T093000
TZNAME:CEST
TZOFFSETTO:+0200
TZOFFSETFROM:+0200
END:DAYLIGHT
END:VTIMEZONE
END:VCALENDAR
