BEGIN:VCALENDAR
PRODID:-//eluceo/ical//2.0/EN
VERSION:2.0
CALSCALE:GREGORIAN
BEGIN:VEVENT
UID:ff2b1bd9d3b5d84dbc1c6d4ce4884078
DTSTAMP:20260421T172533Z
SUMMARY:Familiencafé mit Marika & Anita
DESCRIPTION:Offener Treff für Familien mit kleinen Snacks\, Tee & Kaffee\,
  Spielen und bunten Kreativ- und Bewegungsangeboten.
URL:https://awo-potsdam.de/de/veranstaltung/familiencafe-mit-marika-anita-2
 /
DTSTART:20260316T150000
DTEND:20260316T170000
LOCATION:Familienzentrum Niemegk
END:VEVENT
BEGIN:VTIMEZONE
TZID:Europe/Berlin
BEGIN:STANDARD
DTSTART:20260316T150000
TZNAME:CET
TZOFFSETTO:+0100
TZOFFSETFROM:+0100
END:STANDARD
END:VTIMEZONE
END:VCALENDAR
