BEGIN:VCALENDAR
PRODID:-//eluceo/ical//2.0/EN
VERSION:2.0
CALSCALE:GREGORIAN
BEGIN:VEVENT
UID:92c5be15b1468bb6d0aa19cdf94ddfc8
DTSTAMP:20260421T171722Z
SUMMARY:Film Inklusive
DESCRIPTION:Eine Veranstaltung  des Teltower Inklusionsbüro für Menschen
  mit und ohne Behinderung.\nEin Filmnachmittag mit Snacks und Getränken z
 u kleinen Preisen. Jede/r ist herzlich willkommen!
URL:https://awo-potsdam.de/de/veranstaltung/film-inklusive-7/
DTSTART:20260528T110000
DTEND:20260528T110000
LOCATION:
END:VEVENT
BEGIN:VTIMEZONE
TZID:Europe/Berlin
BEGIN:DAYLIGHT
DTSTART:20260528T110000
TZNAME:CEST
TZOFFSETTO:+0200
TZOFFSETFROM:+0200
END:DAYLIGHT
END:VTIMEZONE
END:VCALENDAR
