BEGIN:VCALENDAR
PRODID:-//eluceo/ical//2.0/EN
VERSION:2.0
CALSCALE:GREGORIAN
BEGIN:VEVENT
UID:15704973cbe74659ad682c046c64a32a
DTSTAMP:20260425T010556Z
SUMMARY:Gottesdienst mit Pfarrer Jonas Börsel
DESCRIPTION:     Pfarrer Jonas Börsel der evangelischen heiligen Geist 
 Kirchengemeinde Werder lädt zum Gottesdienst ein.
URL:https://awo-potsdam.de/de/veranstaltung/gottesdienst-mit-pfarrer-jonas-
 boersel/
DTSTART:20260326T000000
DTEND:20260326T235959
LOCATION:
END:VEVENT
BEGIN:VTIMEZONE
TZID:Europe/Berlin
BEGIN:STANDARD
DTSTART:20260326T000000
TZNAME:CET
TZOFFSETTO:+0100
TZOFFSETFROM:+0100
END:STANDARD
END:VTIMEZONE
END:VCALENDAR
