BEGIN:VCALENDAR
PRODID:-//eluceo/ical//2.0/EN
VERSION:2.0
CALSCALE:GREGORIAN
BEGIN:VEVENT
UID:1c39bed695562be3b11e57c9adfdf6d0
DTSTAMP:20260421T175540Z
SUMMARY:Gratis-Rollenspiel-Tag
DESCRIPTION:Am 18. April 2026 laden wir zum zweiten Mal zur offenen Spieler
 unde im Rahmen der Gratisrollenspieltage ein. Zwischen 11 und 16 Uhr könn
 t Ihr jederzeit bei uns im Mehrgenerationenhaus in Brück vorbeischauen un
 d an den verschiedenen Spielerunden teilnehmen\, die Spielleiter über die
  Spiele aushorchen oder auch einfach nur zuschauen und mitschleichen\, mit
 zittern\, mitlachen.\nWir werden in mehreren kleinen Runden Kurzabenteuer 
 u.a. in den Systemen DungeonSlayers und Shadowrun und - für jüngere Eins
 teiger ab ca. 8 Jahren - im System Mausritter durchführen\, in die man je
 derzeit einsteigen kann\, bis zum Ende oder auch für kurze Zeit.\nZudem w
 erden weitere Rollenspiel-Systeme und auch das eine oder andere Tabletop-S
 piel vorgestellt.\nEs ist keine Anmeldung erforderlich.\nTeam MGH
URL:https://awo-potsdam.de/de/veranstaltung/gratis-rollenspiel-tag/
DTSTART:20260418T110000
DTEND:20260418T160000
LOCATION:AWO Mehrgenerationenhaus "Alte Korbmacherei"
END:VEVENT
BEGIN:VTIMEZONE
TZID:Europe/Berlin
BEGIN:DAYLIGHT
DTSTART:20260418T110000
TZNAME:CEST
TZOFFSETTO:+0200
TZOFFSETFROM:+0200
END:DAYLIGHT
END:VTIMEZONE
END:VCALENDAR
