BEGIN:VCALENDAR
PRODID:-//eluceo/ical//2.0/EN
VERSION:2.0
CALSCALE:GREGORIAN
BEGIN:VEVENT
UID:df229162961274a73352eb4d3a7ca84c
DTSTAMP:20260419T201510Z
SUMMARY:Haarschmuck-Kurs (Kopie)
DESCRIPTION:unter die Leitung der Fachfrau Natasha lernen Frauen \, wie sie
  einfachen und verfügbaren Werkzeugen herstellen.\ndie begleitenden Kinde
 r können English oder Arabisch  mit vielem Spaß lernen.
URL:https://awo-potsdam.de/de/veranstaltung/haarschmuck-kurs-kopie/
DTSTART:20260307T120000
DTEND:20260307T140000
LOCATION:AWO Haus "Alte Druckerei"
END:VEVENT
BEGIN:VTIMEZONE
TZID:Europe/Berlin
BEGIN:STANDARD
DTSTART:20260307T120000
TZNAME:CET
TZOFFSETTO:+0100
TZOFFSETFROM:+0100
END:STANDARD
END:VTIMEZONE
END:VCALENDAR
