BEGIN:VCALENDAR
PRODID:-//eluceo/ical//2.0/EN
VERSION:2.0
CALSCALE:GREGORIAN
BEGIN:VEVENT
UID:5af796009aa287dd7e47ca8b3fe2f4e6
DTSTAMP:20260419T135135Z
SUMMARY:Hausnotruf - Kleiner Knopf mit großer Wirkung
DESCRIPTION:
URL:https://awo-potsdam.de/de/veranstaltung/hausnotruf-kleiner-knopf-mit-gr
 osser-wirkung-2/
DTSTART:20250903T110000
DTEND:20250903T110000
LOCATION:
END:VEVENT
BEGIN:VTIMEZONE
TZID:Europe/Berlin
BEGIN:DAYLIGHT
DTSTART:20250903T110000
TZNAME:CEST
TZOFFSETTO:+0200
TZOFFSETFROM:+0200
END:DAYLIGHT
END:VTIMEZONE
END:VCALENDAR
