BEGIN:VCALENDAR
PRODID:-//eluceo/ical//2.0/EN
VERSION:2.0
CALSCALE:GREGORIAN
BEGIN:VEVENT
UID:51916c07030ab5ca0349356b28164628
DTSTAMP:20260423T180917Z
SUMMARY:Informationsveranstaltung
DESCRIPTION:Wir möchten euch unsere Schule vorstellen und informieren übe
 r die Ausbildungen:\n-Erzieher*in\n-Sozialassistent*in
URL:https://awo-potsdam.de/de/veranstaltung/informationsveranstaltung-4/
DTSTART:20260326T150000
DTEND:20260326T160000
LOCATION:AWO-Fachschule für Sozialpädagogik\; Röhrenstr. 6 in 14480 Pots
 dam
END:VEVENT
BEGIN:VTIMEZONE
TZID:Europe/Berlin
BEGIN:STANDARD
DTSTART:20260326T150000
TZNAME:CET
TZOFFSETTO:+0100
TZOFFSETFROM:+0100
END:STANDARD
END:VTIMEZONE
END:VCALENDAR
