BEGIN:VCALENDAR
PRODID:-//eluceo/ical//2.0/EN
VERSION:2.0
CALSCALE:GREGORIAN
BEGIN:VEVENT
UID:51a522922e9cea20874640c6e047e118
DTSTAMP:20260421T175354Z
SUMMARY:Informationsveranstaltung
DESCRIPTION:Wir möchten euch unsere Schule vorstellen und informieren übe
 r die Ausbildungen:\n-Erzieher*in\n-Sozialassistent*in
URL:https://awo-potsdam.de/de/veranstaltung/infoveranstaltung-2/
DTSTART:20260423T150000
DTEND:20260423T160000
LOCATION:AWO-Fachschule für Sozialpädagogik\; Röhrenstr. 6 in 14480 Pots
 dam
END:VEVENT
BEGIN:VTIMEZONE
TZID:Europe/Berlin
BEGIN:DAYLIGHT
DTSTART:20260423T150000
TZNAME:CEST
TZOFFSETTO:+0200
TZOFFSETFROM:+0200
END:DAYLIGHT
END:VTIMEZONE
END:VCALENDAR
