BEGIN:VCALENDAR
PRODID:-//eluceo/ical//2.0/EN
VERSION:2.0
CALSCALE:GREGORIAN
BEGIN:VEVENT
UID:fd061f2631729763a1331c2420e00758
DTSTAMP:20260423T181045Z
SUMMARY:Interkulturelles Familienfrühstück im TRollberg
DESCRIPTION:Zusammen mit dem Netzwerk gesunde Kinder laden wir euch herzlic
 h zu unserem interkulturellen Frühstück ins Familienzentrum im TRollberg
  ein.\nKaffee\, Tee und andere Frühstücksleckereien stehen für euch ber
 eit.\nGemeinsam eine schöne Zeit verbringen\, sich kennenlernen und rund 
 um die Familie austauschen.\nEverybody is welcome!\nBitte meldet euch an\,
  dies hilft uns bei der Vorbereitung.
URL:https://awo-potsdam.de/de/veranstaltung/interkulturelles-familienfruehs
 tueck-im-trollberg-4/
DTSTART:20250520T090000
DTEND:20250520T110000
LOCATION:AWO Familienzentrum im TRollberg
END:VEVENT
BEGIN:VTIMEZONE
TZID:Europe/Berlin
BEGIN:DAYLIGHT
DTSTART:20250520T090000
TZNAME:CEST
TZOFFSETTO:+0200
TZOFFSETFROM:+0200
END:DAYLIGHT
END:VTIMEZONE
END:VCALENDAR
