BEGIN:VCALENDAR
PRODID:-//eluceo/ical//2.0/EN
VERSION:2.0
CALSCALE:GREGORIAN
BEGIN:VEVENT
UID:9a6bbb9bd7a028246e8a2f704c2b8396
DTSTAMP:20260423T133400Z
SUMMARY:Kaffeeklatsch meet´s Jacobsweg #Fahrrad#
DESCRIPTION:mit dem Fahrrad den Jacobsweg Entlang\nDiesmal fällt unser Kaf
 feeklatsch etwas anders aus\nEs gibt einen Vortrag über die Pilgerreise\n
 von und mit Jürgen Heinisch der sich auf machte\nden Jacobsweg mit dem Fa
 hrrag zu erkunden\nFreuen Sie sich auf einen spannenden Erlebnissbericht\n
 mit Kaffee und Kuchen
URL:https://awo-potsdam.de/de/veranstaltung/kaffeeklatsch-meet-s-jacobsweg-
 fahrrad/
DTSTART:20260612T150000
DTEND:20260612T163000
LOCATION:
END:VEVENT
BEGIN:VTIMEZONE
TZID:Europe/Berlin
BEGIN:DAYLIGHT
DTSTART:20260612T150000
TZNAME:CEST
TZOFFSETTO:+0200
TZOFFSETFROM:+0200
END:DAYLIGHT
END:VTIMEZONE
END:VCALENDAR
