BEGIN:VCALENDAR
PRODID:-//eluceo/ical//2.0/EN
VERSION:2.0
CALSCALE:GREGORIAN
BEGIN:VEVENT
UID:cadbf84dcf95c6fc3d6fe7dd58380c87
DTSTAMP:20260423T194417Z
SUMMARY:Kinder- und Jugend-Fest 2025
DESCRIPTION:Die Stiftung Großes Waisenhaus zu Potsdam lädt alle Jugendlic
 hen und jungen Erwachsenen zu einem fröhlichen Fest im Innenhof des Waise
 nhauses ein. Es wird nicht nur Spiel und Spaß geben\, sondern auch Infost
 ände und Mitmachaktionen zu Kinderrechten – denn diese sind für alle A
 ltersgruppen von Bedeutung! 
URL:https://awo-potsdam.de/de/veranstaltung/kinder-und-jugend-fest-2025/
DTSTART:20250927T110000
DTEND:20250927T190000
LOCATION:Innenhof der Stiftung Großes Waisenhaus
END:VEVENT
BEGIN:VTIMEZONE
TZID:Europe/Berlin
BEGIN:DAYLIGHT
DTSTART:20250927T110000
TZNAME:CEST
TZOFFSETTO:+0200
TZOFFSETFROM:+0200
END:DAYLIGHT
END:VTIMEZONE
END:VCALENDAR
