BEGIN:VCALENDAR
PRODID:-//eluceo/ical//2.0/EN
VERSION:2.0
CALSCALE:GREGORIAN
BEGIN:VEVENT
UID:e5dcd057665f2106c4ae0d3d1f42b6b2
DTSTAMP:20260419T121402Z
SUMMARY:Klettern und Bewegen nach Hengstenberg
DESCRIPTION:Drüber\, drunter\, rauf und runter - Klettern und Bewegung mit
  Mama/Papa für Kinder bis 6 Jahren\, gerne mit Anmeldung
URL:https://awo-potsdam.de/de/veranstaltung/klettern-und-bewegen-nach-hengs
 tenberg-3/
DTSTART:20260506T160000
DTEND:20260506T173000
LOCATION:Familienzentrum im TRollberg
END:VEVENT
BEGIN:VTIMEZONE
TZID:Europe/Berlin
BEGIN:DAYLIGHT
DTSTART:20260506T160000
TZNAME:CEST
TZOFFSETTO:+0200
TZOFFSETFROM:+0200
END:DAYLIGHT
END:VTIMEZONE
END:VCALENDAR
