BEGIN:VCALENDAR
PRODID:-//eluceo/ical//2.0/EN
VERSION:2.0
CALSCALE:GREGORIAN
BEGIN:VEVENT
UID:c25817ead17d20e94fb5655de1fd2cac
DTSTAMP:20260421T171927Z
SUMMARY:Komm wir spielen
DESCRIPTION:Die Vorschulkinder aus der Kita "Teltower Rübchen" sind wieder
  zu Besuch im AWO Haus Teltow und möchten gern mit unseren Senioren und S
 eniorinnen\, Karten oder andere Spiele spielen. Wer Lust hat ist gern dabe
 i.
URL:https://awo-potsdam.de/de/veranstaltung/komm-wir-spielen-2/
DTSTART:20260506T100000
DTEND:20260506T100000
LOCATION:AWO Haus Teltow\, Potsdamer Straße 62\, 14513 Teltow
END:VEVENT
BEGIN:VTIMEZONE
TZID:Europe/Berlin
BEGIN:DAYLIGHT
DTSTART:20260506T100000
TZNAME:CEST
TZOFFSETTO:+0200
TZOFFSETFROM:+0200
END:DAYLIGHT
END:VTIMEZONE
END:VCALENDAR
