BEGIN:VCALENDAR
PRODID:-//eluceo/ical//2.0/EN
VERSION:2.0
CALSCALE:GREGORIAN
BEGIN:VEVENT
UID:dba87886ec4700e2c7449ca6480d2b15
DTSTAMP:20260426T011329Z
SUMMARY:Kreativ Nachmittag
DESCRIPTION:Ob für einen Geburtstag oder für eine Hochzeit\, Ostern oder 
 Weihnachten...es gibt unzählige Anlässe für kreative Ideen. Der Kreativ
 e Nachmittag bietet einen Ort\, um neue Ideen aus zu probieren\, eigene Ve
 rwirklichungen mit Jung und Alt zu teilen. Unsere gemütliche Runde bietet
  die perfekte Gelegenheit neue Menschen kennenzulernen und dabei tolle Din
 ge zu gestalten.\nAlles was Du brauchst ist Lust und Kreativität.\nWir fr
 euen uns auf Dich.\nAnmeldungE-MAIL cot-dhnegvrefgerss@njb-cbgfqnz.qrTEL +
 49 331 60075850
URL:https://awo-potsdam.de/de/veranstaltung/kreativ-nachmittag-10/
DTSTART:20251028T160000
DTEND:20251028T180000
LOCATION:AWO Quartierstreff
END:VEVENT
BEGIN:VTIMEZONE
TZID:Europe/Berlin
BEGIN:STANDARD
DTSTART:20251028T160000
TZNAME:CET
TZOFFSETTO:+0100
TZOFFSETFROM:+0100
END:STANDARD
END:VTIMEZONE
END:VCALENDAR
