BEGIN:VCALENDAR
PRODID:-//eluceo/ical//2.0/EN
VERSION:2.0
CALSCALE:GREGORIAN
BEGIN:VEVENT
UID:f17e645d3dbade0226fa01a2fc100dcb
DTSTAMP:20260423T074459Z
SUMMARY:Kundgebung in Elstal für Vielfalt\, Demokratie und Menschlichkeit
DESCRIPTION:Anlässlich des Bürgerdialogs der AfD in der BBS Elstal setzen
  verschiedene Organisationen\nsich für ein offenes Wustermark ein in dem 
 man sich mit Menschlichtkeit begegnet\nunabhängig von Hautfarbe\, Herkunf
 t Religion oder Lebensweise.\nInteressierte sind herzlich willkommen.
URL:https://awo-potsdam.de/de/veranstaltung/kundgebung-in-elstal-fuer-vielf
 alt-demokratie-und-menschlichkeit/
DTSTART:20260213T183000
DTEND:20260213T193000
LOCATION:
END:VEVENT
BEGIN:VTIMEZONE
TZID:Europe/Berlin
BEGIN:STANDARD
DTSTART:20260213T183000
TZNAME:CET
TZOFFSETTO:+0100
TZOFFSETFROM:+0100
END:STANDARD
END:VTIMEZONE
END:VCALENDAR
