BEGIN:VCALENDAR
PRODID:-//eluceo/ical//2.0/EN
VERSION:2.0
CALSCALE:GREGORIAN
BEGIN:VEVENT
UID:685fc6f7c60fa854fcea6d4c454b0bca
DTSTAMP:20260421T170929Z
SUMMARY:Lady Liners
DESCRIPTION:Treffen der Line Dance Gruppe
URL:https://awo-potsdam.de/de/veranstaltung/lady-liners-28/
DTSTART:20260521T183000
DTEND:20260521T210000
LOCATION:
END:VEVENT
BEGIN:VTIMEZONE
TZID:Europe/Berlin
BEGIN:DAYLIGHT
DTSTART:20260521T183000
TZNAME:CEST
TZOFFSETTO:+0200
TZOFFSETFROM:+0200
END:DAYLIGHT
END:VTIMEZONE
END:VCALENDAR
