BEGIN:VCALENDAR
PRODID:-//eluceo/ical//2.0/EN
VERSION:2.0
CALSCALE:GREGORIAN
BEGIN:VEVENT
UID:506b6390fb994f9049605278a2bc31cb
DTSTAMP:20260421T171203Z
SUMMARY:Lady Liners
DESCRIPTION:Treffen der Line Dance Gruppe
URL:https://awo-potsdam.de/de/veranstaltung/lady-liners-29/
DTSTART:20260528T183000
DTEND:20260528T210000
LOCATION:
END:VEVENT
BEGIN:VTIMEZONE
TZID:Europe/Berlin
BEGIN:DAYLIGHT
DTSTART:20260528T183000
TZNAME:CEST
TZOFFSETTO:+0200
TZOFFSETFROM:+0200
END:DAYLIGHT
END:VTIMEZONE
END:VCALENDAR
