BEGIN:VCALENDAR
PRODID:-//eluceo/ical//2.0/EN
VERSION:2.0
CALSCALE:GREGORIAN
BEGIN:VEVENT
UID:17451d1b6293bbf17c44411cf00d9871
DTSTAMP:20260421T170807Z
SUMMARY:Lady Liners
DESCRIPTION:
URL:https://awo-potsdam.de/de/veranstaltung/lady-liners-31/
DTSTART:20260507T183000
DTEND:20260507T210000
LOCATION:
END:VEVENT
BEGIN:VTIMEZONE
TZID:Europe/Berlin
BEGIN:DAYLIGHT
DTSTART:20260507T183000
TZNAME:CEST
TZOFFSETTO:+0200
TZOFFSETFROM:+0200
END:DAYLIGHT
END:VTIMEZONE
END:VCALENDAR
