BEGIN:VCALENDAR
PRODID:-//eluceo/ical//2.0/EN
VERSION:2.0
CALSCALE:GREGORIAN
BEGIN:VEVENT
UID:015d0cc5f5f139c616260aa4154ead35
DTSTAMP:20260419T134231Z
SUMMARY:Langer Kinder- und Jugendtreff
DESCRIPTION:Langer Kinder- und Jugendtreff\nSpieleabend\nWir laden wieder e
 in\, zu neuen & alten Spielen. LAMA\; LOOPING LOUIE\; KAKERLAKENPOKER - da
  ist bestimmt für jeden etwas dabei!\nWir freuen uns!!\n \nTeam MGH
URL:https://awo-potsdam.de/de/veranstaltung/langer-jugendtreff-2/
DTSTART:20260427T160000
DTEND:20260427T190000
LOCATION:AWO Mehrgenerationenhaus "Alte Korbmacherei"
END:VEVENT
BEGIN:VTIMEZONE
TZID:Europe/Berlin
BEGIN:DAYLIGHT
DTSTART:20260427T160000
TZNAME:CEST
TZOFFSETTO:+0200
TZOFFSETFROM:+0200
END:DAYLIGHT
END:VTIMEZONE
END:VCALENDAR
