BEGIN:VCALENDAR
PRODID:-//eluceo/ical//2.0/EN
VERSION:2.0
CALSCALE:GREGORIAN
BEGIN:VEVENT
UID:7424440f91b7fdd5ed4ad71555f651eb
DTSTAMP:20260421T171529Z
SUMMARY:Leslie Sansone´s Walk "live" classes
DESCRIPTION:Bewegung mit Musik. Ansprechpartnerin: Caren Opitz\nMit Teilnah
 megebühr
URL:https://awo-potsdam.de/de/veranstaltung/leslie-sansone-s-walk-live-clas
 ses/
DTSTART:20260522T183000
DTEND:20260522T210000
LOCATION:
END:VEVENT
BEGIN:VTIMEZONE
TZID:Europe/Berlin
BEGIN:DAYLIGHT
DTSTART:20260522T183000
TZNAME:CEST
TZOFFSETTO:+0200
TZOFFSETFROM:+0200
END:DAYLIGHT
END:VTIMEZONE
END:VCALENDAR
