BEGIN:VCALENDAR
PRODID:-//eluceo/ical//2.0/EN
VERSION:2.0
CALSCALE:GREGORIAN
BEGIN:VEVENT
UID:0851d48e251c60c1d40a16b02f0032fe
DTSTAMP:20260419T172927Z
SUMMARY:Malen nach Bob Ross
DESCRIPTION:Malen nach Bob Ross\nmit Uwe Schneider\nu.schneider@malschule-b
 oltenhagen.de\nBitte Anmelden!
URL:https://awo-potsdam.de/de/veranstaltung/malen-nach-bob-ross/
DTSTART:20260313T180000
DTEND:20260313T210000
LOCATION:AWO Mehrgenerationenhaus "Alte Korbmacherei"
END:VEVENT
BEGIN:VTIMEZONE
TZID:Europe/Berlin
BEGIN:STANDARD
DTSTART:20260313T180000
TZNAME:CET
TZOFFSETTO:+0100
TZOFFSETFROM:+0100
END:STANDARD
END:VTIMEZONE
END:VCALENDAR
