BEGIN:VCALENDAR
PRODID:-//eluceo/ical//2.0/EN
VERSION:2.0
CALSCALE:GREGORIAN
BEGIN:VEVENT
UID:1211507f016ca1fc2f7fbb0d21b8615e
DTSTAMP:20260425T104520Z
SUMMARY:MAWIBA mit Kati
DESCRIPTION:Tanzen für alle Generationen und sanft den Beckenboden trainie
 ren.\nKosten 13€ / Termin\nAnmeldungen an: kmarter@mawibatrainer.com
URL:https://awo-potsdam.de/de/veranstaltung/mawiba-mit-kati-3/
DTSTART:20260319T163000
DTEND:20260319T173000
LOCATION:Familienzentrum Niemegk
END:VEVENT
BEGIN:VTIMEZONE
TZID:Europe/Berlin
BEGIN:STANDARD
DTSTART:20260319T163000
TZNAME:CET
TZOFFSETTO:+0100
TZOFFSETFROM:+0100
END:STANDARD
END:VTIMEZONE
END:VCALENDAR
