BEGIN:VCALENDAR
PRODID:-//eluceo/ical//2.0/EN
VERSION:2.0
CALSCALE:GREGORIAN
BEGIN:VEVENT
UID:4a35770fbd2cd01a01b655a072c1d4d9
DTSTAMP:20260421T175936Z
SUMMARY:MAWIBA mit Kati
DESCRIPTION:Tanzen für alle Generationen und sanft den Beckenboden trainie
 ren.\nKosten 13€ / Termin\nAnmeldungen an: kmarter@mawibatrainer.com
URL:https://awo-potsdam.de/de/veranstaltung/mawiba-mit-kati-5/
DTSTART:20260416T163000
DTEND:20260416T173000
LOCATION:Familienzentrum Niemegk
END:VEVENT
BEGIN:VTIMEZONE
TZID:Europe/Berlin
BEGIN:DAYLIGHT
DTSTART:20260416T163000
TZNAME:CEST
TZOFFSETTO:+0200
TZOFFSETFROM:+0200
END:DAYLIGHT
END:VTIMEZONE
END:VCALENDAR
