BEGIN:VCALENDAR
PRODID:-//eluceo/ical//2.0/EN
VERSION:2.0
CALSCALE:GREGORIAN
BEGIN:VEVENT
UID:3c5d37d33ee5f6cb111bc8e50c41f509
DTSTAMP:20260419T173143Z
SUMMARY:MAWIBA mit Kati
DESCRIPTION:Tanzen für alle Generationen und sanft den Beckenboden trainie
 ren.\nKosten 13€ / Termin\nAnmeldungen an: kmarter@mawibatrainer.com
URL:https://awo-potsdam.de/de/veranstaltung/mawiba-mit-kati-6/
DTSTART:20260423T163000
DTEND:20260423T173000
LOCATION:Familienzentrum Niemegk
END:VEVENT
BEGIN:VTIMEZONE
TZID:Europe/Berlin
BEGIN:DAYLIGHT
DTSTART:20260423T163000
TZNAME:CEST
TZOFFSETTO:+0200
TZOFFSETFROM:+0200
END:DAYLIGHT
END:VTIMEZONE
END:VCALENDAR
