BEGIN:VCALENDAR
PRODID:-//eluceo/ical//2.0/EN
VERSION:2.0
CALSCALE:GREGORIAN
BEGIN:VEVENT
UID:0a3e56800d64c3e399af9dffdee1b289
DTSTAMP:20260425T223222Z
SUMMARY:MAWIBA®
DESCRIPTION:MAWIBA® ist ein Tanzkonzept mit sanftem Beckenbodentraining f
 ür Schwangere\, Mamas mit Babys und alle Frauen\, die Spaß am Tanzen hab
 en.\nmit Katrin Marter\nim MGH-Sportraum
URL:https://awo-potsdam.de/de/veranstaltung/mawiba-r-5/
DTSTART:20250519T090000
DTEND:20250519T103000
LOCATION:AWO Mehrgenerationenhaus "Alte Korbmacherei"
END:VEVENT
BEGIN:VTIMEZONE
TZID:Europe/Berlin
BEGIN:DAYLIGHT
DTSTART:20250519T090000
TZNAME:CEST
TZOFFSETTO:+0200
TZOFFSETFROM:+0200
END:DAYLIGHT
END:VTIMEZONE
END:VCALENDAR
