BEGIN:VCALENDAR
PRODID:-//eluceo/ical//2.0/EN
VERSION:2.0
CALSCALE:GREGORIAN
BEGIN:VEVENT
UID:3153346f3ad48bc3297f7950a57986ee
DTSTAMP:20260424T142723Z
SUMMARY:Medienkonsum bei Kindern
DESCRIPTION:Ihr möchtet wissen\, wieviel Bildschirmzeit ist eigentlich ang
 emessen und welche Chancen und Risiken hat der Medienkonsum für mein Kind
 ? Dann kommt gern zu unserer Informationsveranstaltung ins Familiencafé. 
 Zarina gibt euch hilfreiche Tipps und Informationen zum Umgang mit Smartph
 one\, Tablet und Co. 
URL:https://awo-potsdam.de/de/veranstaltung/medienkonsum-bei-kindern-2/
DTSTART:20260429T100000
DTEND:20260429T120000
LOCATION:Interkulturelles Familiencafé Rathenow
END:VEVENT
BEGIN:VTIMEZONE
TZID:Europe/Berlin
BEGIN:DAYLIGHT
DTSTART:20260429T100000
TZNAME:CEST
TZOFFSETTO:+0200
TZOFFSETFROM:+0200
END:DAYLIGHT
END:VTIMEZONE
END:VCALENDAR
