BEGIN:VCALENDAR
PRODID:-//eluceo/ical//2.0/EN
VERSION:2.0
CALSCALE:GREGORIAN
BEGIN:VEVENT
UID:b8673752f59fff163c4e6c8fd791ba81
DTSTAMP:20260423T181023Z
SUMMARY:Offene Lernwerkstatt im TRollberg
DESCRIPTION:Gemeinsam deutsch üben (kein Kurs)\, Hausaufgabenhilfe\, Begeg
 nen und Spaß haben. Kinder sind willkommen.
URL:https://awo-potsdam.de/de/veranstaltung/offene-lernwerkstatt-im-trollbe
 rg-6/
DTSTART:20250331T133000
DTEND:20250331T153000
LOCATION:AWO Familienzentrum im TRollberg
END:VEVENT
BEGIN:VTIMEZONE
TZID:Europe/Berlin
BEGIN:DAYLIGHT
DTSTART:20250331T133000
TZNAME:CEST
TZOFFSETTO:+0200
TZOFFSETFROM:+0200
END:DAYLIGHT
END:VTIMEZONE
END:VCALENDAR
