BEGIN:VCALENDAR
PRODID:-//eluceo/ical//2.0/EN
VERSION:2.0
CALSCALE:GREGORIAN
BEGIN:VEVENT
UID:1b66b56b422eb8ec20c726e315a71f7e
DTSTAMP:20260423T090248Z
SUMMARY:Programmierwerkstatt - CoderDojo und 3D-Druck mit Marcus und Marika
DESCRIPTION:Wir treffen uns und programmieren gemeinsam eigene Spiele mit S
 cratch. Außerdem gestalten wir kleine nützliche Dinge mit dem 3D-Drucker
 . Kinder und Jugendliche ab 8 Jahren sind herzlich willkommen.
URL:https://awo-potsdam.de/de/veranstaltung/programmierwerkstatt-coderdojo-
 und-3d-druck-mit-marcus-und-marika-9/
DTSTART:20260610T160000
DTEND:20260610T180000
LOCATION:Familienzentrum Niemegk
END:VEVENT
BEGIN:VTIMEZONE
TZID:Europe/Berlin
BEGIN:DAYLIGHT
DTSTART:20260610T160000
TZNAME:CEST
TZOFFSETTO:+0200
TZOFFSETFROM:+0200
END:DAYLIGHT
END:VTIMEZONE
END:VCALENDAR
