BEGIN:VCALENDAR
PRODID:-//eluceo/ical//2.0/EN
VERSION:2.0
CALSCALE:GREGORIAN
BEGIN:VEVENT
UID:f51ca0f00abcf6aa7648488866f493b3
DTSTAMP:20260421T172354Z
SUMMARY:Rückenfitness
DESCRIPTION:Kreisvolkshochschule
URL:https://awo-potsdam.de/de/veranstaltung/rueckenfitness/
DTSTART:20260302T170000
DTEND:20260302T180000
LOCATION:Räume im AWO Mehrgenerationenhaus "Alte Korbmacherei"
END:VEVENT
BEGIN:VTIMEZONE
TZID:Europe/Berlin
BEGIN:STANDARD
DTSTART:20260302T170000
TZNAME:CET
TZOFFSETTO:+0100
TZOFFSETFROM:+0100
END:STANDARD
END:VTIMEZONE
END:VCALENDAR
