BEGIN:VCALENDAR
PRODID:-//eluceo/ical//2.0/EN
VERSION:2.0
CALSCALE:GREGORIAN
BEGIN:VEVENT
UID:6738b491dcd1cf8883d351d12daeaea5
DTSTAMP:20260421T172438Z
SUMMARY:Schneiderwerkstatt mit Anita
DESCRIPTION:Gemeinsam Nähen und voneinander lernen für Jugendliche ab 16 
 Jahre und Erwachsene. Auch für Nähanfänger. Die angeleiteten Nähprojek
 te vermitteln Einsteigerwissen zum Nähen mit der Nähmaschine. Beim Freie
 n Nähen könnt ihr angefangene Nähprojekte beenden oder eigene Nähideen
  mitbringen. Nähmaschinen und Zubehör sind vorhanden. Teilnahmebeitrag 3
 € / Treffen plus Materialkosten für Stoffe.\nBitte meldet euch direkt b
 ei Anita Haase unter der Nummer 0151 53513543
URL:https://awo-potsdam.de/de/veranstaltung/schneiderwerkstatt-mit-anita-5/
DTSTART:20260513T183000
DTEND:20260513T210000
LOCATION:Familienzentrum Niemegk
END:VEVENT
BEGIN:VTIMEZONE
TZID:Europe/Berlin
BEGIN:DAYLIGHT
DTSTART:20260513T183000
TZNAME:CEST
TZOFFSETTO:+0200
TZOFFSETFROM:+0200
END:DAYLIGHT
END:VTIMEZONE
END:VCALENDAR
